BEGIN:VCALENDAR
VERSION:2.0
PRODID:-//FashionweekTO - ECPv6.15.20//NONSGML v1.0//EN
CALSCALE:GREGORIAN
METHOD:PUBLISH
X-WR-CALNAME:FashionweekTO
X-ORIGINAL-URL:https://fashionweekto.com
X-WR-CALDESC:Events for FashionweekTO
REFRESH-INTERVAL;VALUE=DURATION:PT1H
X-Robots-Tag:noindex
X-PUBLISHED-TTL:PT1H
BEGIN:VTIMEZONE
TZID:UTC
BEGIN:STANDARD
TZOFFSETFROM:+0000
TZOFFSETTO:+0000
TZNAME:UTC
DTSTART:20220101T000000
END:STANDARD
END:VTIMEZONE
BEGIN:VEVENT
DTSTART;TZID=UTC:20231104T190000
DTEND;TZID=UTC:20231105T020000
DTSTAMP:20260423T190008
CREATED:20231002T084744Z
LAST-MODIFIED:20231103T134743Z
UID:584-1699124400-1699149600@fashionweekto.com
SUMMARY:FashionWeekTO Presents The Shows at Grand Bizzarre
DESCRIPTION:7:00 PM: Doors Open \n7:30 PM-8:00 PM:\nRed Carpet Reception Cocktails + Fashion Industry Networking \n8:00 PM – 9:00PM: Fashion Show I (Opening)\nSuits By Curtis Eliot\nKira Elle\nLifted Soul \n9:00 PM-9:15 PM Intermission |\nCocktails | Media & Red Carpet VIP Lounge | Entertainment \n9:15 PM-9:35 PM: Fashion Show II\n401 Clothing \n9:35 – 9:45 PM: Intermission | Media & Red Carpet VIP Lounge | Entertainment \n9:45 PM-10:30 PM: Fashion Show III (Closing )\n* Uniq Lingerie\n* TFL Couture\n* KH Luxury Boutique \n10:30 PM +: The Shows x Afterparty at Grand Bizarre
URL:https://fashionweekto.com/event/fashionweekto-presents-the-shows-at-grand-bizzarre/
LOCATION:Grand Bizarre\, 15 Sasketchewan Rd.\, Canada
CATEGORIES:Fashion Shows,Grand Bizarre
ATTACH;FMTTYPE=image/png:https://fashionweekto.com/wp-content/uploads/2023/11/cover.png
END:VEVENT
BEGIN:VEVENT
DTSTART;TZID=UTC:20231021T190000
DTEND;TZID=UTC:20231022T000100
DTSTAMP:20260423T190008
CREATED:20231006T165022Z
LAST-MODIFIED:20231006T165646Z
UID:608-1697914800-1697932860@fashionweekto.com
SUMMARY:FashionWeekTO Official Opening Party @ Divina Dali
DESCRIPTION:FashionweekTO Presents The Official Opening Party @ Divina Dali Art Exhibit \n———————– \nMeet and network with fashion-forward thinkers\, models\, designers and talent \n\nDoors Open 7:00 PM \nFashionWeek TO Opening Party | Cocktails | Models | Designers | Fashion Industry Mixer : 7:00-11:30 PM \nDivina Dali Art Exhibit| Live DJ & Performances | Cocktails : 7 :00-11:30 PM \n Retail Pop Ups | Media & VIP Lounge Open  \nDress Code : Ultra Chic \n\nAbout Divina Dali Exhibit : \nDivina Dalí is a multi-sensory adventure into Dante’s poetic masterpiece\, The Divine Comedy\, through the surrealist vision of Salvador Dalí. \n\nFeaturing 110 rare masterpieces from the private collection of Dali’s archivist\, visitors will embark on a captivating journey into the depths and heights of human adventure. The carefully curated music and theatrical lighting effects are the backdrop for these original artworks and will transport you into a world of wonder\, where the profound artworks will leave a lasting impression. \n\nWidely considered as some of Dalí’s greatest works\, Divina Dalí provides a once-in-a-lifetime opportunity to witness these majestic pieces of art outside of international museums. \n\nDivina Dali Exhibit : 4 rooms |main room | 3 art exhibit \n\nLimited Capacity \nNo refunds | Cash Bar | Tickets at door | \nGeneral Admission : $30  \n19+ Event \n——————– \nEvent hosted by FashionweekTO \nVenue Partner : Divina Dali Toronto \n\nMedia Sponsor : TODOTORONTO & Tryste Media | I Fashion Magazine  (NY) | Biz Fashion Magazine \nOrganizer : Canada Fashion House \n\nSponsors : The Brother Grimm Vodka| Grand Bizarre Toronto | Canada Fashion House |401 Clothing | Couture Culture and Arts \n\nBe sure to follow us on social media for show updates \n\nInstagram: @fashionweekto @trystemedia @kh_luxury_boutique @suitsbycurtieliott @401_clothing @kiraellecollection @liftedsoul @todotoronto @modelstreamtv  @divinadalitoronto @canada.fashionhouse \n@thebrothersgrimmvodka \n\nwww.fashionweekto.com \n\nwww.divinadali.com \n\nww.trystemedia.com
URL:https://fashionweekto.com/event/fashionweekto-official-opening-party-divina-dali/
LOCATION:divina dali\, 181 by st\, Brookefield Place\, Toronto\, Canada
CATEGORIES:Fashion Shows
ATTACH;FMTTYPE=image/png:https://fashionweekto.com/wp-content/uploads/2023/10/Fashion-Week-TO-1-1.png
END:VEVENT
END:VCALENDAR